BEGIN:VCALENDAR
VERSION:2.0
PRODID:-//FREIWILLIGE FEUERWEHR DISCHINGEN - ECPv6.9.0//NONSGML v1.0//EN
CALSCALE:GREGORIAN
METHOD:PUBLISH
X-ORIGINAL-URL:http://www.feuerwehr-dischingen.de
X-WR-CALDESC:Veranstaltungen für FREIWILLIGE FEUERWEHR DISCHINGEN
REFRESH-INTERVAL;VALUE=DURATION:PT1H
X-Robots-Tag:noindex
X-PUBLISHED-TTL:PT1H
BEGIN:VTIMEZONE
TZID:Europe/Berlin
BEGIN:DAYLIGHT
TZOFFSETFROM:+0100
TZOFFSETTO:+0200
TZNAME:CEST
DTSTART:20240331T010000
END:DAYLIGHT
BEGIN:STANDARD
TZOFFSETFROM:+0200
TZOFFSETTO:+0100
TZNAME:CET
DTSTART:20241027T010000
END:STANDARD
END:VTIMEZONE
BEGIN:VEVENT
DTSTART;TZID=Europe/Berlin:20240506T193000
DTEND;TZID=Europe/Berlin:20240506T213000
DTSTAMP:20260423T133415
CREATED:20240317T085854Z
LAST-MODIFIED:20240317T085854Z
UID:2387-1715023800-1715031000@www.feuerwehr-dischingen.de
SUMMARY:Übung Türöffnungsgruppe
DESCRIPTION:
URL:http://www.feuerwehr-dischingen.de/event/uebung-tueroeffnungsgruppe-2/
LOCATION:Feuerwehrmagazin Dischingen\, Dossenberger Straße 37\, Dischingen\, 89561\, Deutschland
CATEGORIES:Übung
END:VEVENT
BEGIN:VEVENT
DTSTART;TZID=Europe/Berlin:20240512T123000
DTEND;TZID=Europe/Berlin:20240512T230000
DTSTAMP:20260423T133415
CREATED:20240317T090022Z
LAST-MODIFIED:20240317T090022Z
UID:2389-1715517000-1715554800@www.feuerwehr-dischingen.de
SUMMARY:Festumzug und Zapfenstreich - Jubiläum MV Dunstelkingen
DESCRIPTION:
URL:http://www.feuerwehr-dischingen.de/event/festumzug-und-zapfenstreich-jubilaeum-mv-dunstelkingen/
LOCATION:Dunstelkingen
CATEGORIES:sonstige Veranstaltungen
END:VEVENT
BEGIN:VEVENT
DTSTART;TZID=Europe/Berlin:20240517T193000
DTEND;TZID=Europe/Berlin:20240517T213000
DTSTAMP:20260423T133415
CREATED:20240317T090115Z
LAST-MODIFIED:20240317T090115Z
UID:2393-1715974200-1715981400@www.feuerwehr-dischingen.de
SUMMARY:Übung aktive Wehr - Einsatzübung Brandeinsatz
DESCRIPTION:
URL:http://www.feuerwehr-dischingen.de/event/uebung-aktive-wehr-einsatzuebung-brandeinsatz/
LOCATION:Feuerwehrmagazin Dischingen\, Dossenberger Straße 37\, Dischingen\, 89561\, Deutschland
CATEGORIES:Übung
END:VEVENT
END:VCALENDAR