BEGIN:VCALENDAR
VERSION:2.0
PRODID:-//FREIWILLIGE FEUERWEHR DISCHINGEN - ECPv6.9.0//NONSGML v1.0//EN
CALSCALE:GREGORIAN
METHOD:PUBLISH
X-WR-CALNAME:FREIWILLIGE FEUERWEHR DISCHINGEN
X-ORIGINAL-URL:http://www.feuerwehr-dischingen.de
X-WR-CALDESC:Veranstaltungen für FREIWILLIGE FEUERWEHR DISCHINGEN
REFRESH-INTERVAL;VALUE=DURATION:PT1H
X-Robots-Tag:noindex
X-PUBLISHED-TTL:PT1H
BEGIN:VTIMEZONE
TZID:Europe/Berlin
BEGIN:DAYLIGHT
TZOFFSETFROM:+0100
TZOFFSETTO:+0200
TZNAME:CEST
DTSTART:20240331T010000
END:DAYLIGHT
BEGIN:STANDARD
TZOFFSETFROM:+0200
TZOFFSETTO:+0100
TZNAME:CET
DTSTART:20241027T010000
END:STANDARD
END:VTIMEZONE
BEGIN:VEVENT
DTSTART;TZID=Europe/Berlin:20240607T180000
DTEND;TZID=Europe/Berlin:20240607T220000
DTSTAMP:20260423T185405
CREATED:20240317T090211Z
LAST-MODIFIED:20240317T090211Z
UID:2395-1717783200-1717797600@www.feuerwehr-dischingen.de
SUMMARY:Übung aktive Wehr - Einsatzübung Q-Hof Raunecker
DESCRIPTION:
URL:http://www.feuerwehr-dischingen.de/event/uebung-aktive-wehr-einsatzuebung-q-hof-raunecker/
LOCATION:Feuerwehrmagazin Frickingen\, Nördlinger Straße 28\, Dischingen-Frickingen\, 89561\, Deutschland
CATEGORIES:Übung
END:VEVENT
END:VCALENDAR